Workbook

Sheet الكشف
A1: كشف حساب
A3: العميل | B3: مطعم الأصدقاء
A4: من تاريخ | B4: 46296
A5: إلى تاريخ | B5: 46326
A6: الجوال | B6: =IFERROR(VLOOKUP(B3,العملاء!A:E,2,FALSE()),"") -> 01000000001
A7: الرصيد الحالي | B7: =IFERROR(VLOOKUP(B3,العملاء!A:E,5,FALSE()),0) -> 1400
A10: التاريخ | B10: البيان | C10: مدين | D10: دائن | E10: الرصيد
B11: رصيد سابق | E11: =IFERROR(VLOOKUP(B3,العملاء!A:E,4,FALSE()),0)+SUMIFS(الحركات!D:D,الحركات!B:B,B3,الحركات!A:A,"<"&B4)-SUMIFS(الحركات!E:E,الحركات!B:B,B3,الحركات!A:A,"<"&B4) -> 1200
A12: =IFERROR(INDEX(الحركات!A:A,MATCH(ROW()-11,الحركات!F:F,0)),"") -> 46299 | B12: =IFERROR(INDEX(الحركات!C:C,MATCH(ROW()-11,الحركات!F:F,0)),"") -> فاتورة بيع آجلة 1024 | C12: =IFERROR(INDEX(الحركات!D:D,MATCH(ROW()-11,الحركات!F:F,0)),"") -> 2350 | D12: =IFERROR(INDEX(الحركات!E:E,MATCH(ROW()-11,الحركات!F:F,0)),"") -> 0 | E12: =IF(A12="","",E11+N(C12)-N(D12)) -> 3550
A13: =IFERROR(INDEX(الحركات!A:A,MATCH(ROW()-11,الحركات!F:F,0)),"") -> 46307 | B13: =IFERROR(INDEX(الحركات!C:C,MATCH(ROW()-11,الحركات!F:F,0)),"") -> سند قبض 311 | C13: =IFERROR(INDEX(الحركات!D:D,MATCH(ROW()-11,الحركات!F:F,0)),"") -> 0 | D13: =IFERROR(INDEX(الحركات!E:E,MATCH(ROW()-11,الحركات!F:F,0)),"") -> 2000 | E13: =IF(A13="","",E12+N(C13)-N(D13)) -> 1550
A14: =IFERROR(INDEX(الحركات!A:A,MATCH(ROW()-11,الحركات!F:F,0)),"") -> 46315 | B14: =IFERROR(INDEX(الحركات!C:C,MATCH(ROW()-11,الحركات!F:F,0)),"") -> مرتجع على فاتورة 1024 | C14: =IFERROR(INDEX(الحركات!D:D,MATCH(ROW()-11,الحركات!F:F,0)),"") -> 0 | D14: =IFERROR(INDEX(الحركات!E:E,MATCH(ROW()-11,الحركات!F:F,0)),"") -> 150 | E14: =IF(A14="","",E13+N(C14)-N(D14)) -> 1400
A15: =IFERROR(INDEX(الحركات!A:A,MATCH(ROW()-11,الحركات!F:F,0)),"") | B15: =IFERROR(INDEX(الحركات!C:C,MATCH(ROW()-11,الحركات!F:F,0)),"") | C15: =IFERROR(INDEX(الحركات!D:D,MATCH(ROW()-11,الحركات!F:F,0)),"") | D15: =IFERROR(INDEX(الحركات!E:E,MATCH(ROW()-11,الحركات!F:F,0)),"") | E15: =IF(A15="","",E14+N(C15)-N(D15))
A16: =IFERROR(INDEX(الحركات!A:A,MATCH(ROW()-11,الحركات!F:F,0)),"") | B16: =IFERROR(INDEX(الحركات!C:C,MATCH(ROW()-11,الحركات!F:F,0)),"") | C16: =IFERROR(INDEX(الحركات!D:D,MATCH(ROW()-11,الحركات!F:F,0)),"") | D16: =IFERROR(INDEX(الحركات!E:E,MATCH(ROW()-11,الحركات!F:F,0)),"") | E16: =IF(A16="","",E15+N(C16)-N(D16))
A17: =IFERROR(INDEX(الحركات!A:A,MATCH(ROW()-11,الحركات!F:F,0)),"") | B17: =IFERROR(INDEX(الحركات!C:C,MATCH(ROW()-11,الحركات!F:F,0)),"") | C17: =IFERROR(INDEX(الحركات!D:D,MATCH(ROW()-11,الحركات!F:F,0)),"") | D17: =IFERROR(INDEX(الحركات!E:E,MATCH(ROW()-11,الحركات!F:F,0)),"") | E17: =IF(A17="","",E16+N(C17)-N(D17))
A18: =IFERROR(INDEX(الحركات!A:A,MATCH(ROW()-11,الحركات!F:F,0)),"") | B18: =IFERROR(INDEX(الحركات!C:C,MATCH(ROW()-11,الحركات!F:F,0)),"") | C18: =IFERROR(INDEX(الحركات!D:D,MATCH(ROW()-11,الحركات!F:F,0)),"") | D18: =IFERROR(INDEX(الحركات!E:E,MATCH(ROW()-11,الحركات!F:F,0)),"") | E18: =IF(A18="","",E17+N(C18)-N(D18))
A19: =IFERROR(INDEX(الحركات!A:A,MATCH(ROW()-11,الحركات!F:F,0)),"") | B19: =IFERROR(INDEX(الحركات!C:C,MATCH(ROW()-11,الحركات!F:F,0)),"") | C19: =IFERROR(INDEX(الحركات!D:D,MATCH(ROW()-11,الحركات!F:F,0)),"") | D19: =IFERROR(INDEX(الحركات!E:E,MATCH(ROW()-11,الحركات!F:F,0)),"") | E19: =IF(A19="","",E18+N(C19)-N(D19))
A20: =IFERROR(INDEX(الحركات!A:A,MATCH(ROW()-11,الحركات!F:F,0)),"") | B20: =IFERROR(INDEX(الحركات!C:C,MATCH(ROW()-11,الحركات!F:F,0)),"") | C20: =IFERROR(INDEX(الحركات!D:D,MATCH(ROW()-11,الحركات!F:F,0)),"") | D20: =IFERROR(INDEX(الحركات!E:E,MATCH(ROW()-11,الحركات!F:F,0)),"") | E20: =IF(A20="","",E19+N(C20)-N(D20))
A21: =IFERROR(INDEX(الحركات!A:A,MATCH(ROW()-11,الحركات!F:F,0)),"") | B21: =IFERROR(INDEX(الحركات!C:C,MATCH(ROW()-11,الحركات!F:F,0)),"") | C21: =IFERROR(INDEX(الحركات!D:D,MATCH(ROW()-11,الحركات!F:F,0)),"") | D21: =IFERROR(INDEX(الحركات!E:E,MATCH(ROW()-11,الحركات!F:F,0)),"") | E21: =IF(A21="","",E20+N(C21)-N(D21))
A22: =IFERROR(INDEX(الحركات!A:A,MATCH(ROW()-11,الحركات!F:F,0)),"") | B22: =IFERROR(INDEX(الحركات!C:C,MATCH(ROW()-11,الحركات!F:F,0)),"") | C22: =IFERROR(INDEX(الحركات!D:D,MATCH(ROW()-11,الحركات!F:F,0)),"") | D22: =IFERROR(INDEX(الحركات!E:E,MATCH(ROW()-11,الحركات!F:F,0)),"") | E22: =IF(A22="","",E21+N(C22)-N(D22))
A23: =IFERROR(INDEX(الحركات!A:A,MATCH(ROW()-11,الحركات!F:F,0)),"") | B23: =IFERROR(INDEX(الحركات!C:C,MATCH(ROW()-11,الحركات!F:F,0)),"") | C23: =IFERROR(INDEX(الحركات!D:D,MATCH(ROW()-11,الحركات!F:F,0)),"") | D23: =IFERROR(INDEX(الحركات!E:E,MATCH(ROW()-11,الحركات!F:F,0)),"") | E23: =IF(A23="","",E22+N(C23)-N(D23))
... A211: =IFERROR(INDEX(الحركات!A:A,MATCH(ROW()-11,الحركات!F:F,0)),"") | B211: =IFERROR(INDEX(الحركات!C:C,MATCH(ROW()-11,الحركات!F:F,0)),"") | C211: =IFERROR(INDEX(الحركات!D:D,MATCH(ROW()-11,الحركات!F:F,0)),"") | D211: =IFERROR(INDEX(الحركات!E:E,MATCH(ROW()-11,الحركات!F:F,0)),"") | E211: =IF(A211="","",E210+N(C211)-N(D211))

Sheet الحركات
A1: التاريخ | B1: الاسم | C1: البيان | D1: مدين | E1: دائن | F1: مساعد (لا تعدّله)
A2: 46285 | B2: مطعم الأصدقاء | C2: فاتورة بيع آجلة 1010 | D2: 1200 | F2: =IF(AND(B2=الكشف!$B$3,A2>=الكشف!$B$4,A2<=الكشف!$B$5),MAX(F$1:F1)+1,"")
A3: 46299 | B3: مطعم الأصدقاء | C3: فاتورة بيع آجلة 1024 | D3: 2350 | F3: =IF(AND(B3=الكشف!$B$3,A3>=الكشف!$B$4,A3<=الكشف!$B$5),MAX(F$1:F2)+1,"") -> 1
A4: 46307 | B4: مطعم الأصدقاء | C4: سند قبض 311 | E4: 2000 | F4: =IF(AND(B4=الكشف!$B$3,A4>=الكشف!$B$4,A4<=الكشف!$B$5),MAX(F$1:F3)+1,"") -> 2
A5: 46315 | B5: مطعم الأصدقاء | C5: مرتجع على فاتورة 1024 | E5: 150 | F5: =IF(AND(B5=الكشف!$B$3,A5>=الكشف!$B$4,A5<=الكشف!$B$5),MAX(F$1:F4)+1,"") -> 3
A6: 46317 | B6: كافيه الزهراء | C6: فاتورة بيع آجلة 1031 | D6: 640 | F6: =IF(AND(B6=الكشف!$B$3,A6>=الكشف!$B$4,A6<=الكشف!$B$5),MAX(F$1:F5)+1,"")
F7: =IF(AND(B7=الكشف!$B$3,A7>=الكشف!$B$4,A7<=الكشف!$B$5),MAX(F$1:F6)+1,"")
F8: =IF(AND(B8=الكشف!$B$3,A8>=الكشف!$B$4,A8<=الكشف!$B$5),MAX(F$1:F7)+1,"")
F9: =IF(AND(B9=الكشف!$B$3,A9>=الكشف!$B$4,A9<=الكشف!$B$5),MAX(F$1:F8)+1,"")
F10: =IF(AND(B10=الكشف!$B$3,A10>=الكشف!$B$4,A10<=الكشف!$B$5),MAX(F$1:F9)+1,"")
F11: =IF(AND(B11=الكشف!$B$3,A11>=الكشف!$B$4,A11<=الكشف!$B$5),MAX(F$1:F10)+1,"")
F12: =IF(AND(B12=الكشف!$B$3,A12>=الكشف!$B$4,A12<=الكشف!$B$5),MAX(F$1:F11)+1,"")
F13: =IF(AND(B13=الكشف!$B$3,A13>=الكشف!$B$4,A13<=الكشف!$B$5),MAX(F$1:F12)+1,"")
F14: =IF(AND(B14=الكشف!$B$3,A14>=الكشف!$B$4,A14<=الكشف!$B$5),MAX(F$1:F13)+1,"")
F15: =IF(AND(B15=الكشف!$B$3,A15>=الكشف!$B$4,A15<=الكشف!$B$5),MAX(F$1:F14)+1,"")
F16: =IF(AND(B16=الكشف!$B$3,A16>=الكشف!$B$4,A16<=الكشف!$B$5),MAX(F$1:F15)+1,"")
F17: =IF(AND(B17=الكشف!$B$3,A17>=الكشف!$B$4,A17<=الكشف!$B$5),MAX(F$1:F16)+1,"")
F18: =IF(AND(B18=الكشف!$B$3,A18>=الكشف!$B$4,A18<=الكشف!$B$5),MAX(F$1:F17)+1,"")
... F501: =IF(AND(B501=الكشف!$B$3,A501>=الكشف!$B$4,A501<=الكشف!$B$5),MAX(F$1:F500)+1,"")

Sheet العملاء
A1: الاسم | B1: الجوال | C1: النوع | D1: الرصيد الافتتاحي | E1: الرصيد
A2: مطعم الأصدقاء | B2: 01000000001 | C2: عميل | D2: 0 | E2: =IF(A2="","",D2+SUMIFS(الحركات!D:D,الحركات!B:B,A2)-SUMIFS(الحركات!E:E,الحركات!B:B,A2)) -> 1400
A3: كافيه الزهراء | B3: 01000000002 | C3: عميل | D3: 0 | E3: =IF(A3="","",D3+SUMIFS(الحركات!D:D,الحركات!B:B,A3)-SUMIFS(الحركات!E:E,الحركات!B:B,A3)) -> 640
A4: شركة التوريدات | B4: 01000000003 | C4: مورد | D4: 0 | E4: =IF(A4="","",D4+SUMIFS(الحركات!D:D,الحركات!B:B,A4)-SUMIFS(الحركات!E:E,الحركات!B:B,A4)) -> 0
E5: =IF(A5="","",D5+SUMIFS(الحركات!D:D,الحركات!B:B,A5)-SUMIFS(الحركات!E:E,الحركات!B:B,A5))
E6: =IF(A6="","",D6+SUMIFS(الحركات!D:D,الحركات!B:B,A6)-SUMIFS(الحركات!E:E,الحركات!B:B,A6))
E7: =IF(A7="","",D7+SUMIFS(الحركات!D:D,الحركات!B:B,A7)-SUMIFS(الحركات!E:E,الحركات!B:B,A7))
E8: =IF(A8="","",D8+SUMIFS(الحركات!D:D,الحركات!B:B,A8)-SUMIFS(الحركات!E:E,الحركات!B:B,A8))
E9: =IF(A9="","",D9+SUMIFS(الحركات!D:D,الحركات!B:B,A9)-SUMIFS(الحركات!E:E,الحركات!B:B,A9))
E10: =IF(A10="","",D10+SUMIFS(الحركات!D:D,الحركات!B:B,A10)-SUMIFS(الحركات!E:E,الحركات!B:B,A10))
E11: =IF(A11="","",D11+SUMIFS(الحركات!D:D,الحركات!B:B,A11)-SUMIFS(الحركات!E:E,الحركات!B:B,A11))
E12: =IF(A12="","",D12+SUMIFS(الحركات!D:D,الحركات!B:B,A12)-SUMIFS(الحركات!E:E,الحركات!B:B,A12))
E13: =IF(A13="","",D13+SUMIFS(الحركات!D:D,الحركات!B:B,A13)-SUMIFS(الحركات!E:E,الحركات!B:B,A13))
E14: =IF(A14="","",D14+SUMIFS(الحركات!D:D,الحركات!B:B,A14)-SUMIFS(الحركات!E:E,الحركات!B:B,A14))
E15: =IF(A15="","",D15+SUMIFS(الحركات!D:D,الحركات!B:B,A15)-SUMIFS(الحركات!E:E,الحركات!B:B,A15))
E16: =IF(A16="","",D16+SUMIFS(الحركات!D:D,الحركات!B:B,A16)-SUMIFS(الحركات!E:E,الحركات!B:B,A16))
... E501: =IF(A501="","",D501+SUMIFS(الحركات!D:D,الحركات!B:B,A501)-SUMIFS(الحركات!E:E,الحركات!B:B,A501))

Sheet طريقة الاستخدام
A1: طريقة الاستخدام
A3: 1. اكتب عملاءك ومورديك في ورقة «العملاء»: الاسم، الجوال، النوع (عميل أو مورد)، والرصيد الافتتاحي. الجوال منسَّق نصاً فيبقى الصفر في أوله.
A4: 2. سجّل كل حركة في ورقة «الحركات»: التاريخ، الاسم، البيان، مدين (ما صار على العميل)، دائن (ما دفعه أو ردّه). لا تعدّل عمود «مساعد».
A5: 3. في ورقة «الكشف» اختر العميل وتاريخ البداية والنهاية، فتظهر حركاته ورصيده بعد كل حركة (حتى 200 حركة في الكشف).
A6: 4. اطبع الكشف أو احفظه PDF وأرسله إلى العميل.
A7: للنقل إلى كفّة: استورد ورقة «العملاء». يُقرأ عمود «الرصيد» (الرصيد الحالي)، فيبدأ كل عميل بما عليه اليوم.
A9: الخلايا الملوّنة بالبيج تكتبها أنت، والباقي يُحسب تلقائياً. الصفوف المكتوبة بيانات تجريبية: احذفها واكتب بياناتك.
A10: نموذج مجاني من كفّة · getkaffa.com. بلا ماكرو. يعمل على Excel 2010 أو أحدث وGoogle Sheets وLibreOffice.
