Workbook

Sheet العملاء
A1: الاسم | B1: الجوال | C1: الرصيد الافتتاحي | D1: آجل | E1: سداد | F1: الرصيد
A2: الحاج محمود | B2: 0500000001 | C2: 0 | D2: =IF(A2="","",SUMIFS(الحركات!D:D,الحركات!B:B,A2,الحركات!C:C,"آجل")) -> 450 | E2: =IF(A2="","",SUMIFS(الحركات!D:D,الحركات!B:B,A2,الحركات!C:C,"سداد")) -> 200 | F2: =IF(A2="","",N(C2)+D2-E2) -> 250
A3: بقالة الحي | B3: 0500000002 | C3: 120 | D3: =IF(A3="","",SUMIFS(الحركات!D:D,الحركات!B:B,A3,الحركات!C:C,"آجل")) -> 300 | E3: =IF(A3="","",SUMIFS(الحركات!D:D,الحركات!B:B,A3,الحركات!C:C,"سداد")) -> 420 | F3: =IF(A3="","",N(C3)+D3-E3) -> 0
A4: سوبر ماركت النور | B4: 0500000003 | C4: 0 | D4: =IF(A4="","",SUMIFS(الحركات!D:D,الحركات!B:B,A4,الحركات!C:C,"آجل")) -> 75.5 | E4: =IF(A4="","",SUMIFS(الحركات!D:D,الحركات!B:B,A4,الحركات!C:C,"سداد")) -> 0 | F4: =IF(A4="","",N(C4)+D4-E4) -> 75.5
D5: =IF(A5="","",SUMIFS(الحركات!D:D,الحركات!B:B,A5,الحركات!C:C,"آجل")) | E5: =IF(A5="","",SUMIFS(الحركات!D:D,الحركات!B:B,A5,الحركات!C:C,"سداد")) | F5: =IF(A5="","",N(C5)+D5-E5)
D6: =IF(A6="","",SUMIFS(الحركات!D:D,الحركات!B:B,A6,الحركات!C:C,"آجل")) | E6: =IF(A6="","",SUMIFS(الحركات!D:D,الحركات!B:B,A6,الحركات!C:C,"سداد")) | F6: =IF(A6="","",N(C6)+D6-E6)
D7: =IF(A7="","",SUMIFS(الحركات!D:D,الحركات!B:B,A7,الحركات!C:C,"آجل")) | E7: =IF(A7="","",SUMIFS(الحركات!D:D,الحركات!B:B,A7,الحركات!C:C,"سداد")) | F7: =IF(A7="","",N(C7)+D7-E7)
D8: =IF(A8="","",SUMIFS(الحركات!D:D,الحركات!B:B,A8,الحركات!C:C,"آجل")) | E8: =IF(A8="","",SUMIFS(الحركات!D:D,الحركات!B:B,A8,الحركات!C:C,"سداد")) | F8: =IF(A8="","",N(C8)+D8-E8)
D9: =IF(A9="","",SUMIFS(الحركات!D:D,الحركات!B:B,A9,الحركات!C:C,"آجل")) | E9: =IF(A9="","",SUMIFS(الحركات!D:D,الحركات!B:B,A9,الحركات!C:C,"سداد")) | F9: =IF(A9="","",N(C9)+D9-E9)
D10: =IF(A10="","",SUMIFS(الحركات!D:D,الحركات!B:B,A10,الحركات!C:C,"آجل")) | E10: =IF(A10="","",SUMIFS(الحركات!D:D,الحركات!B:B,A10,الحركات!C:C,"سداد")) | F10: =IF(A10="","",N(C10)+D10-E10)
D11: =IF(A11="","",SUMIFS(الحركات!D:D,الحركات!B:B,A11,الحركات!C:C,"آجل")) | E11: =IF(A11="","",SUMIFS(الحركات!D:D,الحركات!B:B,A11,الحركات!C:C,"سداد")) | F11: =IF(A11="","",N(C11)+D11-E11)
D12: =IF(A12="","",SUMIFS(الحركات!D:D,الحركات!B:B,A12,الحركات!C:C,"آجل")) | E12: =IF(A12="","",SUMIFS(الحركات!D:D,الحركات!B:B,A12,الحركات!C:C,"سداد")) | F12: =IF(A12="","",N(C12)+D12-E12)
D13: =IF(A13="","",SUMIFS(الحركات!D:D,الحركات!B:B,A13,الحركات!C:C,"آجل")) | E13: =IF(A13="","",SUMIFS(الحركات!D:D,الحركات!B:B,A13,الحركات!C:C,"سداد")) | F13: =IF(A13="","",N(C13)+D13-E13)
D14: =IF(A14="","",SUMIFS(الحركات!D:D,الحركات!B:B,A14,الحركات!C:C,"آجل")) | E14: =IF(A14="","",SUMIFS(الحركات!D:D,الحركات!B:B,A14,الحركات!C:C,"سداد")) | F14: =IF(A14="","",N(C14)+D14-E14)
D15: =IF(A15="","",SUMIFS(الحركات!D:D,الحركات!B:B,A15,الحركات!C:C,"آجل")) | E15: =IF(A15="","",SUMIFS(الحركات!D:D,الحركات!B:B,A15,الحركات!C:C,"سداد")) | F15: =IF(A15="","",N(C15)+D15-E15)
D16: =IF(A16="","",SUMIFS(الحركات!D:D,الحركات!B:B,A16,الحركات!C:C,"آجل")) | E16: =IF(A16="","",SUMIFS(الحركات!D:D,الحركات!B:B,A16,الحركات!C:C,"سداد")) | F16: =IF(A16="","",N(C16)+D16-E16)
... D501: =IF(A501="","",SUMIFS(الحركات!D:D,الحركات!B:B,A501,الحركات!C:C,"آجل")) | E501: =IF(A501="","",SUMIFS(الحركات!D:D,الحركات!B:B,A501,الحركات!C:C,"سداد")) | F501: =IF(A501="","",N(C501)+D501-E501)

Sheet الحركات
A1: التاريخ | B1: العميل | C1: النوع | D1: المبلغ | E1: ملاحظة
A2: 46297 | B2: الحاج محمود | C2: آجل | D2: 450 | E2: مشتريات الأسبوع
A3: 46304 | B3: الحاج محمود | C3: سداد | D3: 200
A4: 46305 | B4: بقالة الحي | C4: آجل | D4: 300
A5: 46313 | B5: بقالة الحي | C5: سداد | D5: 420 | E5: سداد كامل
A6: 46315 | B6: سوبر ماركت النور | C6: آجل | D6: 75.5

Sheet طريقة الاستخدام
A1: طريقة الاستخدام
A3: 1. اكتب عملاءك في ورقة «العملاء»: الاسم والجوال والرصيد الافتتاحي إن وُجد. الجوال منسَّق نصاً فيبقى الصفر في أوله.
A4: 2. سجّل كل حركة في ورقة «الحركات»: التاريخ، العميل (من القائمة)، النوع (آجل أو سداد)، المبلغ، وملاحظة.
A5: 3. يتحدث رصيد كل عميل تلقائياً: الرصيد = الافتتاحي + الآجل − السداد.
A6: للنقل إلى كفّة: استورد ورقة «العملاء». يُقرأ عمود «الرصيد» (الرصيد الحالي)، فيبدأ كل عميل بما عليه اليوم.
A8: الخلايا الملوّنة بالبيج تكتبها أنت، والباقي يُحسب تلقائياً. الصفوف المكتوبة بيانات تجريبية: احذفها واكتب بياناتك.
A9: نموذج مجاني من كفّة · getkaffa.com. بلا ماكرو. يعمل على Excel 2010 أو أحدث وGoogle Sheets وLibreOffice.
